BEGIN:VCALENDAR
VERSION:2.0
PRODID:-//Senator Maria Collett - ECPv6.15.20//NONSGML v1.0//EN
CALSCALE:GREGORIAN
METHOD:PUBLISH
X-ORIGINAL-URL:https://www.senatorcollett.com
X-WR-CALDESC:Events for Senator Maria Collett
REFRESH-INTERVAL;VALUE=DURATION:PT1H
X-Robots-Tag:noindex
X-PUBLISHED-TTL:PT1H
BEGIN:VTIMEZONE
TZID:America/New_York
BEGIN:DAYLIGHT
TZOFFSETFROM:-0500
TZOFFSETTO:-0400
TZNAME:EDT
DTSTART:20220313T070000
END:DAYLIGHT
BEGIN:STANDARD
TZOFFSETFROM:-0400
TZOFFSETTO:-0500
TZNAME:EST
DTSTART:20221106T060000
END:STANDARD
BEGIN:DAYLIGHT
TZOFFSETFROM:-0500
TZOFFSETTO:-0400
TZNAME:EDT
DTSTART:20230312T070000
END:DAYLIGHT
BEGIN:STANDARD
TZOFFSETFROM:-0400
TZOFFSETTO:-0500
TZNAME:EST
DTSTART:20231105T060000
END:STANDARD
BEGIN:DAYLIGHT
TZOFFSETFROM:-0500
TZOFFSETTO:-0400
TZNAME:EDT
DTSTART:20240310T070000
END:DAYLIGHT
BEGIN:STANDARD
TZOFFSETFROM:-0400
TZOFFSETTO:-0500
TZNAME:EST
DTSTART:20241103T060000
END:STANDARD
END:VTIMEZONE
BEGIN:VEVENT
DTSTART;TZID=America/New_York:20230908T110000
DTEND;TZID=America/New_York:20230908T160000
DTSTAMP:20260424T012504
CREATED:20230731T150618Z
LAST-MODIFIED:20230731T150618Z
UID:10000001-1694170800-1694188800@www.senatorcollett.com
SUMMARY:Sen. Collett & Rep. Guenst’s Community Blood Drive
DESCRIPTION:Did you know that every two seconds someone in the U.S. needs blood? Together\, we can help! I’m teaming up with Rep. Nancy Guenst and the American Red Cross to host a blood drive on Friday\, September 8 from 11am-4pm at the Willow Grove Giant. \nAppointments are required! Sign up at https://rcblood.org/3O59I20 or call 1-800-733-2767.
URL:https://www.senatorcollett.com/event/sen-collett-rep-guensts-community-blood-drive/
LOCATION:Willow Grove GIANT\, 315 N York Road\, Willow Grove\, PA\, 19090\, United States
ATTACH;FMTTYPE=image/jpeg:https://www.senatorcollett.com/wp-content/uploads/2023/07/Blood-Drive-Sept-2023.jpg
END:VEVENT
END:VCALENDAR