BEGIN:VCALENDAR
VERSION:2.0
PRODID:-//Senator Maria Collett - ECPv6.15.20//NONSGML v1.0//EN
CALSCALE:GREGORIAN
METHOD:PUBLISH
X-WR-CALNAME:Senator Maria Collett
X-ORIGINAL-URL:https://www.senatorcollett.com
X-WR-CALDESC:Events for Senator Maria Collett
REFRESH-INTERVAL;VALUE=DURATION:PT1H
X-Robots-Tag:noindex
X-PUBLISHED-TTL:PT1H
BEGIN:VTIMEZONE
TZID:America/New_York
BEGIN:DAYLIGHT
TZOFFSETFROM:-0500
TZOFFSETTO:-0400
TZNAME:EDT
DTSTART:20240310T070000
END:DAYLIGHT
BEGIN:STANDARD
TZOFFSETFROM:-0400
TZOFFSETTO:-0500
TZNAME:EST
DTSTART:20241103T060000
END:STANDARD
BEGIN:DAYLIGHT
TZOFFSETFROM:-0500
TZOFFSETTO:-0400
TZNAME:EDT
DTSTART:20250309T070000
END:DAYLIGHT
BEGIN:STANDARD
TZOFFSETFROM:-0400
TZOFFSETTO:-0500
TZNAME:EST
DTSTART:20251102T060000
END:STANDARD
BEGIN:DAYLIGHT
TZOFFSETFROM:-0500
TZOFFSETTO:-0400
TZNAME:EDT
DTSTART:20260308T070000
END:DAYLIGHT
BEGIN:STANDARD
TZOFFSETFROM:-0400
TZOFFSETTO:-0500
TZNAME:EST
DTSTART:20261101T060000
END:STANDARD
END:VTIMEZONE
BEGIN:VEVENT
DTSTART;TZID=America/New_York:20250802T090000
DTEND;TZID=America/New_York:20250802T110000
DTSTAMP:20260424T014450
CREATED:20240129T191853Z
LAST-MODIFIED:20250625T165531Z
UID:10000121-1754125200-1754132400@www.senatorcollett.com
SUMMARY:License Plate Restoration Event
DESCRIPTION:Have a faded\, peeling\, or hard-to-read PA license plate? We can help! \nJoin State Senator Maria Collett & State Representative Liz Hanbidge for a License Plate Restoration Event with the Lower Gwynedd Township Police Department. The event will be held on Saturday\, August 2 from 9 a.m. -11 a.m. at the Lower Gwynedd Township Police Station. \nRegister to attend below or by calling 215-368-1429. \n\n\n\n\nLicense Plate Restoration - August 2025\n\n\n\n\n\n\n\n\n    First Name\n        *\n    \n    \n    \n    \n\n\n    Last Name\n        *\n    \n    \n    \n    \n\n\n    Address\n        *\n    \n    \n    \n    \n\n\n    Address 2\n        \n    \n    \n    \n    \n\n\n    City\n        *\n    \n    \n    \n    \n\n\n    State\n        *\n    \n    		\n		AlabamaAlaskaArizonaArkansasCaliforniaColoradoConnecticutDelawareDistrict of ColumbiaFloridaGeorgiaHawaiiIdahoIllinoisIndianaIowaKansasKentuckyLouisianaMaineMarylandMassachusettsMichiganMinnesotaMississippiMissouriMontanaNebraskaNevadaNew HampshireNew JerseyNew MexicoNew YorkNorth CarolinaNorth DakotaOhioOklahomaOregonPennsylvaniaRhode IslandSouth CarolinaSouth DakotaTennesseeTexasUtahVermontVirginiaWashingtonWest VirginiaWisconsinWyoming	\n	\n    \n    \n\n\n    Zip Code\n        *\n    \n    \n    \n    \n\n\n    Email\n        *\n    \n    \n    \n    \n\n\n    Phone Number\n        \n    \n    \n    \n    \n\n\n	\n\n\n\n\n\n\n	\n			\n			\n				If you are human\, leave this field blank.
URL:https://www.senatorcollett.com/event/licenseplate/
LOCATION:Lower Gwynedd Township Police Station\, 1130 North Bethlehem Pike\, Spring House\, 19477\, United States
ATTACH;FMTTYPE=image/jpeg:https://www.senatorcollett.com/wp-content/uploads/2024/01/License-Plate-Aug-2025.jpg
END:VEVENT
END:VCALENDAR