BEGIN:VCALENDAR
VERSION:2.0
PRODID:-//Senator Maria Collett - ECPv6.15.20//NONSGML v1.0//EN
CALSCALE:GREGORIAN
METHOD:PUBLISH
X-ORIGINAL-URL:https://www.senatorcollett.com
X-WR-CALDESC:Events for Senator Maria Collett
REFRESH-INTERVAL;VALUE=DURATION:PT1H
X-Robots-Tag:noindex
X-PUBLISHED-TTL:PT1H
BEGIN:VTIMEZONE
TZID:America/New_York
BEGIN:DAYLIGHT
TZOFFSETFROM:-0500
TZOFFSETTO:-0400
TZNAME:EDT
DTSTART:20240310T070000
END:DAYLIGHT
BEGIN:STANDARD
TZOFFSETFROM:-0400
TZOFFSETTO:-0500
TZNAME:EST
DTSTART:20241103T060000
END:STANDARD
BEGIN:DAYLIGHT
TZOFFSETFROM:-0500
TZOFFSETTO:-0400
TZNAME:EDT
DTSTART:20250309T070000
END:DAYLIGHT
BEGIN:STANDARD
TZOFFSETFROM:-0400
TZOFFSETTO:-0500
TZNAME:EST
DTSTART:20251102T060000
END:STANDARD
BEGIN:DAYLIGHT
TZOFFSETFROM:-0500
TZOFFSETTO:-0400
TZNAME:EDT
DTSTART:20260308T070000
END:DAYLIGHT
BEGIN:STANDARD
TZOFFSETFROM:-0400
TZOFFSETTO:-0500
TZNAME:EST
DTSTART:20261101T060000
END:STANDARD
BEGIN:DAYLIGHT
TZOFFSETFROM:-0500
TZOFFSETTO:-0400
TZNAME:EDT
DTSTART:20270314T070000
END:DAYLIGHT
BEGIN:STANDARD
TZOFFSETFROM:-0400
TZOFFSETTO:-0500
TZNAME:EST
DTSTART:20271107T060000
END:STANDARD
END:VTIMEZONE
BEGIN:VEVENT
DTSTART;TZID=America/New_York:20260415T100000
DTEND;TZID=America/New_York:20260415T120000
DTSTAMP:20260424T013718
CREATED:20260112T203033Z
LAST-MODIFIED:20260115T203934Z
UID:10000332-1776247200-1776254400@www.senatorcollett.com
SUMMARY:Hatfield Mobile Office Hours
DESCRIPTION:Senator Collett’s staff will be at the Hatfield Township Building from 10:00AM – Noon on the 3rd Wednesday of every other month to answer your questions and provide a range of state services – no appointment required! \nOffice staff will be available to help you with: \n\nIssues with PennDOT\, including REALID\nDisability plates & placards\nPACE cards for seniors\nProperty Tax/Rent Rebates\nSEPTA Senior Key Card registrations & renewals\nUnemployment compensation\nBirth & death certificate applications\nPA income tax issues\nConsumer complaints\nIssues with Department of Human\nServices (SNAP\, Medical Assistance\, etc.)\nAny matter involving state government!
URL:https://www.senatorcollett.com/event/hatfield-mobile-office/2026-04-15/
LOCATION:Hatfield Township Building\, 1950 School Road\, Hatfield\, 19440\, United States
ATTACH;FMTTYPE=image/jpeg:https://www.senatorcollett.com/wp-content/uploads/2025/02/Hatfield-Township-2026.jpg
END:VEVENT
BEGIN:VEVENT
DTSTART;TZID=America/New_York:20260318T100000
DTEND;TZID=America/New_York:20260318T120000
DTSTAMP:20260424T013718
CREATED:20260112T203033Z
LAST-MODIFIED:20260115T203934Z
UID:10000331-1773828000-1773835200@www.senatorcollett.com
SUMMARY:Hatfield Mobile Office Hours
DESCRIPTION:Senator Collett’s staff will be at the Hatfield Township Building from 10:00AM – Noon on the 3rd Wednesday of every other month to answer your questions and provide a range of state services – no appointment required! \nOffice staff will be available to help you with: \n\nIssues with PennDOT\, including REALID\nDisability plates & placards\nPACE cards for seniors\nProperty Tax/Rent Rebates\nSEPTA Senior Key Card registrations & renewals\nUnemployment compensation\nBirth & death certificate applications\nPA income tax issues\nConsumer complaints\nIssues with Department of Human\nServices (SNAP\, Medical Assistance\, etc.)\nAny matter involving state government!
URL:https://www.senatorcollett.com/event/hatfield-mobile-office/2026-03-18/
LOCATION:Hatfield Township Building\, 1950 School Road\, Hatfield\, 19440\, United States
ATTACH;FMTTYPE=image/jpeg:https://www.senatorcollett.com/wp-content/uploads/2025/02/Hatfield-Township-2026.jpg
END:VEVENT
BEGIN:VEVENT
DTSTART;TZID=America/New_York:20260218T100000
DTEND;TZID=America/New_York:20260218T120000
DTSTAMP:20260424T013718
CREATED:20260112T203033Z
LAST-MODIFIED:20260115T203934Z
UID:10000330-1771408800-1771416000@www.senatorcollett.com
SUMMARY:Hatfield Mobile Office Hours
DESCRIPTION:Senator Collett’s staff will be at the Hatfield Township Building from 10:00AM – Noon on the 3rd Wednesday of every other month to answer your questions and provide a range of state services – no appointment required! \nOffice staff will be available to help you with: \n\nIssues with PennDOT\, including REALID\nDisability plates & placards\nPACE cards for seniors\nProperty Tax/Rent Rebates\nSEPTA Senior Key Card registrations & renewals\nUnemployment compensation\nBirth & death certificate applications\nPA income tax issues\nConsumer complaints\nIssues with Department of Human\nServices (SNAP\, Medical Assistance\, etc.)\nAny matter involving state government!
URL:https://www.senatorcollett.com/event/hatfield-mobile-office/2026-02-18/
LOCATION:Hatfield Township Building\, 1950 School Road\, Hatfield\, 19440\, United States
ATTACH;FMTTYPE=image/jpeg:https://www.senatorcollett.com/wp-content/uploads/2025/02/Hatfield-Township-2026.jpg
END:VEVENT
BEGIN:VEVENT
DTSTART;TZID=America/New_York:20260121T100000
DTEND;TZID=America/New_York:20260121T120000
DTSTAMP:20260424T013718
CREATED:20260112T203033Z
LAST-MODIFIED:20260115T203934Z
UID:10000329-1768989600-1768996800@www.senatorcollett.com
SUMMARY:Hatfield Mobile Office Hours
DESCRIPTION:Senator Collett’s staff will be at the Hatfield Township Building from 10:00AM – Noon on the 3rd Wednesday of every other month to answer your questions and provide a range of state services – no appointment required! \nOffice staff will be available to help you with: \n\nIssues with PennDOT\, including REALID\nDisability plates & placards\nPACE cards for seniors\nProperty Tax/Rent Rebates\nSEPTA Senior Key Card registrations & renewals\nUnemployment compensation\nBirth & death certificate applications\nPA income tax issues\nConsumer complaints\nIssues with Department of Human\nServices (SNAP\, Medical Assistance\, etc.)\nAny matter involving state government!
URL:https://www.senatorcollett.com/event/hatfield-mobile-office/2026-01-21/
LOCATION:Hatfield Township Building\, 1950 School Road\, Hatfield\, 19440\, United States
ATTACH;FMTTYPE=image/jpeg:https://www.senatorcollett.com/wp-content/uploads/2025/02/Hatfield-Township-2026.jpg
END:VEVENT
BEGIN:VEVENT
DTSTART;TZID=America/New_York:20251119T143000
DTEND;TZID=America/New_York:20251119T163000
DTSTAMP:20260424T013718
CREATED:20250213T035217Z
LAST-MODIFIED:20250321T224901Z
UID:10000243-1763562600-1763569800@www.senatorcollett.com
SUMMARY:Hatfield Mobile Office Hours
DESCRIPTION:Senator Collett’s staff will be at the Hatfield Township Building from 2:30PM – 4:30PM on the 3rd Wednesday of every other month to answer your questions and provide a range of state services – no appointment required! \nOffice staff will be available to help you with: \n\nIssues with PennDOT\, including REALID\nDisability plates & placards\nPACE cards for seniors\nProperty Tax/Rent Rebates\nSEPTA Senior Key Card registrations & renewals\nUnemployment compensation\nBirth & death certificate applications\nPA income tax issues\nConsumer complaints\nIssues with Department of Human\nServices (SNAP\, Medical Assistance\, etc.)\nAny matter involving state government!
URL:https://www.senatorcollett.com/event/hatfield-mobile-office-hours/2025-11-19/
LOCATION:Hatfield Township Building\, 1950 School Road\, Hatfield\, 19440\, United States
ATTACH;FMTTYPE=image/jpeg:https://www.senatorcollett.com/wp-content/uploads/2024/08/Hatfield-Township-revised-2025.jpg
END:VEVENT
BEGIN:VEVENT
DTSTART;TZID=America/New_York:20251015T143000
DTEND;TZID=America/New_York:20251015T163000
DTSTAMP:20260424T013718
CREATED:20250213T035217Z
LAST-MODIFIED:20250321T224901Z
UID:10000242-1760538600-1760545800@www.senatorcollett.com
SUMMARY:Hatfield Mobile Office Hours
DESCRIPTION:Senator Collett’s staff will be at the Hatfield Township Building from 2:30PM – 4:30PM on the 3rd Wednesday of every other month to answer your questions and provide a range of state services – no appointment required! \nOffice staff will be available to help you with: \n\nIssues with PennDOT\, including REALID\nDisability plates & placards\nPACE cards for seniors\nProperty Tax/Rent Rebates\nSEPTA Senior Key Card registrations & renewals\nUnemployment compensation\nBirth & death certificate applications\nPA income tax issues\nConsumer complaints\nIssues with Department of Human\nServices (SNAP\, Medical Assistance\, etc.)\nAny matter involving state government!
URL:https://www.senatorcollett.com/event/hatfield-mobile-office-hours/2025-10-15/
LOCATION:Hatfield Township Building\, 1950 School Road\, Hatfield\, 19440\, United States
ATTACH;FMTTYPE=image/jpeg:https://www.senatorcollett.com/wp-content/uploads/2024/08/Hatfield-Township-revised-2025.jpg
END:VEVENT
BEGIN:VEVENT
DTSTART;TZID=America/New_York:20250917T143000
DTEND;TZID=America/New_York:20250917T163000
DTSTAMP:20260424T013718
CREATED:20250213T035217Z
LAST-MODIFIED:20250321T224901Z
UID:10000241-1758119400-1758126600@www.senatorcollett.com
SUMMARY:Hatfield Mobile Office Hours
DESCRIPTION:Senator Collett’s staff will be at the Hatfield Township Building from 2:30PM – 4:30PM on the 3rd Wednesday of every other month to answer your questions and provide a range of state services – no appointment required! \nOffice staff will be available to help you with: \n\nIssues with PennDOT\, including REALID\nDisability plates & placards\nPACE cards for seniors\nProperty Tax/Rent Rebates\nSEPTA Senior Key Card registrations & renewals\nUnemployment compensation\nBirth & death certificate applications\nPA income tax issues\nConsumer complaints\nIssues with Department of Human\nServices (SNAP\, Medical Assistance\, etc.)\nAny matter involving state government!
URL:https://www.senatorcollett.com/event/hatfield-mobile-office-hours/2025-09-17/
LOCATION:Hatfield Township Building\, 1950 School Road\, Hatfield\, 19440\, United States
ATTACH;FMTTYPE=image/jpeg:https://www.senatorcollett.com/wp-content/uploads/2024/08/Hatfield-Township-revised-2025.jpg
END:VEVENT
BEGIN:VEVENT
DTSTART;TZID=America/New_York:20250820T143000
DTEND;TZID=America/New_York:20250820T163000
DTSTAMP:20260424T013718
CREATED:20250213T035217Z
LAST-MODIFIED:20250321T224901Z
UID:10000240-1755700200-1755707400@www.senatorcollett.com
SUMMARY:Hatfield Mobile Office Hours
DESCRIPTION:Senator Collett’s staff will be at the Hatfield Township Building from 2:30PM – 4:30PM on the 3rd Wednesday of every other month to answer your questions and provide a range of state services – no appointment required! \nOffice staff will be available to help you with: \n\nIssues with PennDOT\, including REALID\nDisability plates & placards\nPACE cards for seniors\nProperty Tax/Rent Rebates\nSEPTA Senior Key Card registrations & renewals\nUnemployment compensation\nBirth & death certificate applications\nPA income tax issues\nConsumer complaints\nIssues with Department of Human\nServices (SNAP\, Medical Assistance\, etc.)\nAny matter involving state government!
URL:https://www.senatorcollett.com/event/hatfield-mobile-office-hours/2025-08-20/
LOCATION:Hatfield Township Building\, 1950 School Road\, Hatfield\, 19440\, United States
ATTACH;FMTTYPE=image/jpeg:https://www.senatorcollett.com/wp-content/uploads/2024/08/Hatfield-Township-revised-2025.jpg
END:VEVENT
BEGIN:VEVENT
DTSTART;TZID=America/New_York:20250716T143000
DTEND;TZID=America/New_York:20250716T163000
DTSTAMP:20260424T013718
CREATED:20250213T035217Z
LAST-MODIFIED:20250321T224901Z
UID:10000239-1752676200-1752683400@www.senatorcollett.com
SUMMARY:Hatfield Mobile Office Hours
DESCRIPTION:Senator Collett’s staff will be at the Hatfield Township Building from 2:30PM – 4:30PM on the 3rd Wednesday of every other month to answer your questions and provide a range of state services – no appointment required! \nOffice staff will be available to help you with: \n\nIssues with PennDOT\, including REALID\nDisability plates & placards\nPACE cards for seniors\nProperty Tax/Rent Rebates\nSEPTA Senior Key Card registrations & renewals\nUnemployment compensation\nBirth & death certificate applications\nPA income tax issues\nConsumer complaints\nIssues with Department of Human\nServices (SNAP\, Medical Assistance\, etc.)\nAny matter involving state government!
URL:https://www.senatorcollett.com/event/hatfield-mobile-office-hours/2025-07-16/
LOCATION:Hatfield Township Building\, 1950 School Road\, Hatfield\, 19440\, United States
ATTACH;FMTTYPE=image/jpeg:https://www.senatorcollett.com/wp-content/uploads/2024/08/Hatfield-Township-revised-2025.jpg
END:VEVENT
BEGIN:VEVENT
DTSTART;TZID=America/New_York:20250618T143000
DTEND;TZID=America/New_York:20250618T163000
DTSTAMP:20260424T013718
CREATED:20250213T035217Z
LAST-MODIFIED:20250321T224901Z
UID:10000238-1750257000-1750264200@www.senatorcollett.com
SUMMARY:Hatfield Mobile Office Hours
DESCRIPTION:Senator Collett’s staff will be at the Hatfield Township Building from 2:30PM – 4:30PM on the 3rd Wednesday of every other month to answer your questions and provide a range of state services – no appointment required! \nOffice staff will be available to help you with: \n\nIssues with PennDOT\, including REALID\nDisability plates & placards\nPACE cards for seniors\nProperty Tax/Rent Rebates\nSEPTA Senior Key Card registrations & renewals\nUnemployment compensation\nBirth & death certificate applications\nPA income tax issues\nConsumer complaints\nIssues with Department of Human\nServices (SNAP\, Medical Assistance\, etc.)\nAny matter involving state government!
URL:https://www.senatorcollett.com/event/hatfield-mobile-office-hours/2025-06-18/
LOCATION:Hatfield Township Building\, 1950 School Road\, Hatfield\, 19440\, United States
ATTACH;FMTTYPE=image/jpeg:https://www.senatorcollett.com/wp-content/uploads/2024/08/Hatfield-Township-revised-2025.jpg
END:VEVENT
BEGIN:VEVENT
DTSTART;TZID=America/New_York:20250416T143000
DTEND;TZID=America/New_York:20250416T163000
DTSTAMP:20260424T013718
CREATED:20250213T035217Z
LAST-MODIFIED:20250321T224901Z
UID:10000236-1744813800-1744821000@www.senatorcollett.com
SUMMARY:Hatfield Mobile Office Hours
DESCRIPTION:Senator Collett’s staff will be at the Hatfield Township Building from 2:30PM – 4:30PM on the 3rd Wednesday of every other month to answer your questions and provide a range of state services – no appointment required! \nOffice staff will be available to help you with: \n\nIssues with PennDOT\, including REALID\nDisability plates & placards\nPACE cards for seniors\nProperty Tax/Rent Rebates\nSEPTA Senior Key Card registrations & renewals\nUnemployment compensation\nBirth & death certificate applications\nPA income tax issues\nConsumer complaints\nIssues with Department of Human\nServices (SNAP\, Medical Assistance\, etc.)\nAny matter involving state government!
URL:https://www.senatorcollett.com/event/hatfield-mobile-office-hours/2025-04-16/
LOCATION:Hatfield Township Building\, 1950 School Road\, Hatfield\, 19440\, United States
ATTACH;FMTTYPE=image/jpeg:https://www.senatorcollett.com/wp-content/uploads/2024/08/Hatfield-Township-revised-2025.jpg
END:VEVENT
BEGIN:VEVENT
DTSTART;TZID=America/New_York:20250219T143000
DTEND;TZID=America/New_York:20250219T163000
DTSTAMP:20260424T013718
CREATED:20250213T035217Z
LAST-MODIFIED:20250321T224901Z
UID:10000234-1739975400-1739982600@www.senatorcollett.com
SUMMARY:Hatfield Mobile Office Hours
DESCRIPTION:Senator Collett’s staff will be at the Hatfield Township Building from 2:30PM – 4:30PM on the 3rd Wednesday of every other month to answer your questions and provide a range of state services – no appointment required! \nOffice staff will be available to help you with: \n\nIssues with PennDOT\, including REALID\nDisability plates & placards\nPACE cards for seniors\nProperty Tax/Rent Rebates\nSEPTA Senior Key Card registrations & renewals\nUnemployment compensation\nBirth & death certificate applications\nPA income tax issues\nConsumer complaints\nIssues with Department of Human\nServices (SNAP\, Medical Assistance\, etc.)\nAny matter involving state government!
URL:https://www.senatorcollett.com/event/hatfield-mobile-office-hours/2025-02-19/
LOCATION:Hatfield Township Building\, 1950 School Road\, Hatfield\, 19440\, United States
ATTACH;FMTTYPE=image/jpeg:https://www.senatorcollett.com/wp-content/uploads/2024/08/Hatfield-Township-revised-2025.jpg
END:VEVENT
BEGIN:VEVENT
DTSTART;TZID=America/New_York:20250122T180000
DTEND;TZID=America/New_York:20250122T200000
DTSTAMP:20260424T013718
CREATED:20250106T013942Z
LAST-MODIFIED:20250106T013942Z
UID:10000161-1737568800-1737576000@www.senatorcollett.com
SUMMARY:Dog Licensing Mobile Office
DESCRIPTION:Do you need to renew or purchase your annual dog license for your furry friend? My office will be at the Hatfield Township Building this month to help you process your 2025 licensing application! Annual licenses are $8.70 per application. Please use a check/money order made out to the Montgomery County Treasurer\, and give us a call at 215-368-1429 to learn more. And\, if you aren’t able to make it to our mobile office\, you can stop by my district office at 1035 Virginia Drive\, Suite 201\, Fort Washington on M-F from 9AM-4:30PM to get your annual license! \nPlease note that my office does not process lifetime licenses. If you would like to purchase a lifetime license\, please call the Montgomery County Treasurer’s Office in Norristown at 610-278-3000. 
URL:https://www.senatorcollett.com/event/dog-licensing-mobile-office/
LOCATION:Hatfield Township Building\, 1950 School Road\, Hatfield\, 19440\, United States
ATTACH;FMTTYPE=image/jpeg:https://www.senatorcollett.com/wp-content/uploads/2025/01/Annual-Dog-Licenses-Mobile-Office-Jan-22-2024.jpg
END:VEVENT
END:VCALENDAR