BEGIN:VCALENDAR
VERSION:2.0
PRODID:-//Senator Maria Collett - ECPv6.15.20//NONSGML v1.0//EN
CALSCALE:GREGORIAN
METHOD:PUBLISH
X-WR-CALNAME:Senator Maria Collett
X-ORIGINAL-URL:https://www.senatorcollett.com
X-WR-CALDESC:Events for Senator Maria Collett
REFRESH-INTERVAL;VALUE=DURATION:PT1H
X-Robots-Tag:noindex
X-PUBLISHED-TTL:PT1H
BEGIN:VTIMEZONE
TZID:America/New_York
BEGIN:DAYLIGHT
TZOFFSETFROM:-0500
TZOFFSETTO:-0400
TZNAME:EDT
DTSTART:20210314T070000
END:DAYLIGHT
BEGIN:STANDARD
TZOFFSETFROM:-0400
TZOFFSETTO:-0500
TZNAME:EST
DTSTART:20211107T060000
END:STANDARD
BEGIN:DAYLIGHT
TZOFFSETFROM:-0500
TZOFFSETTO:-0400
TZNAME:EDT
DTSTART:20220313T070000
END:DAYLIGHT
BEGIN:STANDARD
TZOFFSETFROM:-0400
TZOFFSETTO:-0500
TZNAME:EST
DTSTART:20221106T060000
END:STANDARD
BEGIN:DAYLIGHT
TZOFFSETFROM:-0500
TZOFFSETTO:-0400
TZNAME:EDT
DTSTART:20230312T070000
END:DAYLIGHT
BEGIN:STANDARD
TZOFFSETFROM:-0400
TZOFFSETTO:-0500
TZNAME:EST
DTSTART:20231105T060000
END:STANDARD
BEGIN:DAYLIGHT
TZOFFSETFROM:-0500
TZOFFSETTO:-0400
TZNAME:EDT
DTSTART:20240310T070000
END:DAYLIGHT
BEGIN:STANDARD
TZOFFSETFROM:-0400
TZOFFSETTO:-0500
TZNAME:EST
DTSTART:20241103T060000
END:STANDARD
BEGIN:DAYLIGHT
TZOFFSETFROM:-0500
TZOFFSETTO:-0400
TZNAME:EDT
DTSTART:20250309T070000
END:DAYLIGHT
BEGIN:STANDARD
TZOFFSETFROM:-0400
TZOFFSETTO:-0500
TZNAME:EST
DTSTART:20251102T060000
END:STANDARD
BEGIN:DAYLIGHT
TZOFFSETFROM:-0500
TZOFFSETTO:-0400
TZNAME:EDT
DTSTART:20260308T070000
END:DAYLIGHT
BEGIN:STANDARD
TZOFFSETFROM:-0400
TZOFFSETTO:-0500
TZNAME:EST
DTSTART:20261101T060000
END:STANDARD
END:VTIMEZONE
BEGIN:VEVENT
DTSTART;TZID=America/New_York:20251017T093000
DTEND;TZID=America/New_York:20251017T113000
DTSTAMP:20260423T201517
CREATED:20250820T160137Z
LAST-MODIFIED:20251006T162910Z
UID:10000286-1760693400-1760700600@www.senatorcollett.com
SUMMARY:Senior Services and Wellness Hub
DESCRIPTION:Join Senator Collett and her staff for her annual fall Senior Services and Wellness Hub at Generations of Indian Valley! This free event is a one-stop-shop for seniors with giveaways\, health screenings\, state services and a variety of other wellness resources geared towards older adults. \nLunch registration is now closed\, as capacity has been reached.  \nPlease call my office at 215-368-1429 with any questions.
URL:https://www.senatorcollett.com/event/seniorhub/
LOCATION:Generations of Indian Valley\, 259 N. 2nd Street\, Souderton\, 18964\, United States
ATTACH;FMTTYPE=image/jpeg:https://www.senatorcollett.com/wp-content/uploads/2025/08/Senior-Services-and-Wellness-Hub-Oct-2025.jpg
END:VEVENT
BEGIN:VEVENT
DTSTART;TZID=America/New_York:20250411T130000
DTEND;TZID=America/New_York:20250411T140000
DTSTAMP:20260423T201517
CREATED:20250227T145046Z
LAST-MODIFIED:20250227T145046Z
UID:10000246-1744376400-1744380000@www.senatorcollett.com
SUMMARY:Health Literacy 101
DESCRIPTION:Take control of your health and your finances! Join Senator Collett\, Representative Malagari\, and the PA Chapter of the American Physical Therapy Association for a free seminar to improve your health literacy and take control of your finances. We’ll discuss understanding your medical bills\, how to read a prescription bottle\, when to go to the ER versus urgent care\, the different types of Medicare\, and how to prepare for your doctor’s appointment. To register\, call Generations of Indian Valley at 215-723-5841.
URL:https://www.senatorcollett.com/event/health-literacy-101/
LOCATION:Generations of Indian Valley\, 259 N. 2nd Street\, Souderton\, 18964\, United States
ATTACH;FMTTYPE=image/jpeg:https://www.senatorcollett.com/wp-content/uploads/2025/02/Health-Literacy-101-April-2025.jpg
END:VEVENT
BEGIN:VEVENT
DTSTART;TZID=America/New_York:20240816T100000
DTEND;TZID=America/New_York:20240816T120000
DTSTAMP:20260423T201517
CREATED:20240611T174720Z
LAST-MODIFIED:20240801T141507Z
UID:10000134-1723802400-1723809600@www.senatorcollett.com
SUMMARY:Senior Health Fair
DESCRIPTION:Join Senator Collett and local/regional health & wellness vendors for the 2024 Senior Health Fair! Community members are encouraged to explore a variety of resources\, giveaways\, health screenings\, and more! \n			\n			\n				\n				\n				\n				\n			\n				\n				\n				\n				\n				\n				\n				\n				\n				\n				\n				Senior Health Fair Vendors \n\n\nAccess Services\nAmerican Red Cross\nBAYADA Hospice\nDeSales University DPT\nGiant Pharmacy\nIndian Valley Public Library\nIndependence Blue Cross\nJefferson Hospital\, Abington\nKeystone Opportunity Center\nMontgomery County Senior Services\nNAMI Montgomery County\n\n\n \n\nOffice of the Attorney General\nPA Health & Wellness\nPA Medi\nPennDOT Real ID\n Brian Fitzpatrick\n Steve Malagari\nTransNet\nVisiting Nurse Association Community Services\nOn the Move Physical Therapy\nMontgomery County Voter Services\nThe Society of St. Vincent de Paul \n\n\n			\n			\n				\n				\n				\n				\n			\n				\n				\n				\n				\n				\n				\n				\n				\n				\n				\n				Vaccine Information\n			\n				\n				\n				\n				\n				Vaccines will be provided by Giant Pharmacy\, including: \n\n Shingles\n RSV\n Flu\n Pneumonia\n Hepatitis B\n\nTo get your vaccinations\, please bring your insurance card with you to the event. You will be asked to fill out the Immunization Consent Form\, which you may do beforehand here (the form is also available in additional languages here)\, or a form will be provided to you at the event to fill out. Questions? Give Sen. Collett’s office a call at 215-368-1429.
URL:https://www.senatorcollett.com/event/seniorhealthfair/
LOCATION:Generations of Indian Valley\, 259 N. 2nd Street\, Souderton\, 18964\, United States
ATTACH;FMTTYPE=image/jpeg:https://www.senatorcollett.com/wp-content/uploads/2024/06/Health-Fair-Aug-2024.jpg
END:VEVENT
BEGIN:VEVENT
DTSTART;TZID=America/New_York:20221007T100000
DTEND;TZID=America/New_York:20221007T120000
DTSTAMP:20260423T201517
CREATED:20220914T162501Z
LAST-MODIFIED:20220928T143124Z
UID:10000030-1665136800-1665144000@www.senatorcollett.com
SUMMARY:Senior Health Fair
DESCRIPTION:Join us for our Senior Health Fair at Generations of Indian Valley! We will have giveaways\, free health screenings\, and wellness resources serving older adults. This event is free and open to the public. \nFlu Shots & COVID-19 Vaccines\nFlu shots & COVID-19 vaccines/boosters will be provided by Hatfield Community Pharmacy. Appointments are highly recommended. Contact Hatfield Community Pharmacy at 267-956-8400 with any vaccine-related questions. \nSchedule Your Appointment Now →
URL:https://www.senatorcollett.com/event/senior-health-fair/
LOCATION:Generations of Indian Valley\, 259 N. 2nd Street\, Souderton\, 18964\, United States
ATTACH;FMTTYPE=image/jpeg:https://www.senatorcollett.com/wp-content/uploads/2022/09/Soudertown-Senior-Health-Fair-Oct-2022.jpg
END:VEVENT
END:VCALENDAR