BEGIN:VCALENDAR
VERSION:2.0
PRODID:-//Senator Maria Collett - ECPv6.15.20//NONSGML v1.0//EN
CALSCALE:GREGORIAN
METHOD:PUBLISH
X-WR-CALNAME:Senator Maria Collett
X-ORIGINAL-URL:https://www.senatorcollett.com
X-WR-CALDESC:Events for Senator Maria Collett
REFRESH-INTERVAL;VALUE=DURATION:PT1H
X-Robots-Tag:noindex
X-PUBLISHED-TTL:PT1H
BEGIN:VTIMEZONE
TZID:America/New_York
BEGIN:DAYLIGHT
TZOFFSETFROM:-0500
TZOFFSETTO:-0400
TZNAME:EDT
DTSTART:20250309T070000
END:DAYLIGHT
BEGIN:STANDARD
TZOFFSETFROM:-0400
TZOFFSETTO:-0500
TZNAME:EST
DTSTART:20251102T060000
END:STANDARD
BEGIN:DAYLIGHT
TZOFFSETFROM:-0500
TZOFFSETTO:-0400
TZNAME:EDT
DTSTART:20260308T070000
END:DAYLIGHT
BEGIN:STANDARD
TZOFFSETFROM:-0400
TZOFFSETTO:-0500
TZNAME:EST
DTSTART:20261101T060000
END:STANDARD
BEGIN:DAYLIGHT
TZOFFSETFROM:-0500
TZOFFSETTO:-0400
TZNAME:EDT
DTSTART:20270314T070000
END:DAYLIGHT
BEGIN:STANDARD
TZOFFSETFROM:-0400
TZOFFSETTO:-0500
TZNAME:EST
DTSTART:20271107T060000
END:STANDARD
BEGIN:DAYLIGHT
TZOFFSETFROM:-0500
TZOFFSETTO:-0400
TZNAME:EDT
DTSTART:20280312T070000
END:DAYLIGHT
BEGIN:STANDARD
TZOFFSETFROM:-0400
TZOFFSETTO:-0500
TZNAME:EST
DTSTART:20281105T060000
END:STANDARD
END:VTIMEZONE
BEGIN:VEVENT
DTSTART;TZID=America/New_York:20260122T100000
DTEND;TZID=America/New_York:20261022T120000
DTSTAMP:20260424T025600
CREATED:20260115T204504Z
LAST-MODIFIED:20260115T210250Z
UID:10000160-1769076000-1792670400@www.senatorcollett.com
SUMMARY:Veteran Service Office Hours
DESCRIPTION:Every fourth Thursday\, a Veterans Service Officer from the American Legion Department of PA will be available at Senator Collett’s office to help with benefits and answer your questions in a private\, one-on-one setting. Appointments are required! \nContact Sen. Collett’s office at 215-368-1429 or senatorcollett@pasenate.com to make your hour-long appointment.
URL:https://www.senatorcollett.com/event/veteran-service-office/2026-01-22/
LOCATION:Fort Washington District Office\, 1035 Virginia Drive\, Suite 201\, Fort Washington\, PA\, 19034\, United States
ATTACH;FMTTYPE=image/jpeg:https://www.senatorcollett.com/wp-content/uploads/2024/12/2026_Collett_VeteransService_Social.jpg
END:VEVENT
BEGIN:VEVENT
DTSTART;TZID=America/New_York:20260226T100000
DTEND;TZID=America/New_York:20261126T120000
DTSTAMP:20260424T025600
CREATED:20260115T204504Z
LAST-MODIFIED:20260115T210250Z
UID:10000342-1772100000-1795694400@www.senatorcollett.com
SUMMARY:Veteran Service Office Hours
DESCRIPTION:Every fourth Thursday\, a Veterans Service Officer from the American Legion Department of PA will be available at Senator Collett’s office to help with benefits and answer your questions in a private\, one-on-one setting. Appointments are required! \nContact Sen. Collett’s office at 215-368-1429 or senatorcollett@pasenate.com to make your hour-long appointment.
URL:https://www.senatorcollett.com/event/veteran-service-office/2026-02-26/
LOCATION:Fort Washington District Office\, 1035 Virginia Drive\, Suite 201\, Fort Washington\, PA\, 19034\, United States
ATTACH;FMTTYPE=image/jpeg:https://www.senatorcollett.com/wp-content/uploads/2024/12/2026_Collett_VeteransService_Social.jpg
END:VEVENT
BEGIN:VEVENT
DTSTART;TZID=America/New_York:20260326T100000
DTEND;TZID=America/New_York:20261224T110000
DTSTAMP:20260424T025600
CREATED:20260115T204504Z
LAST-MODIFIED:20260115T210250Z
UID:10000343-1774519200-1798110000@www.senatorcollett.com
SUMMARY:Veteran Service Office Hours
DESCRIPTION:Every fourth Thursday\, a Veterans Service Officer from the American Legion Department of PA will be available at Senator Collett’s office to help with benefits and answer your questions in a private\, one-on-one setting. Appointments are required! \nContact Sen. Collett’s office at 215-368-1429 or senatorcollett@pasenate.com to make your hour-long appointment.
URL:https://www.senatorcollett.com/event/veteran-service-office/2026-03-26/
LOCATION:Fort Washington District Office\, 1035 Virginia Drive\, Suite 201\, Fort Washington\, PA\, 19034\, United States
ATTACH;FMTTYPE=image/jpeg:https://www.senatorcollett.com/wp-content/uploads/2024/12/2026_Collett_VeteransService_Social.jpg
END:VEVENT
BEGIN:VEVENT
DTSTART;TZID=America/New_York:20260423T100000
DTEND;TZID=America/New_York:20270121T110000
DTSTAMP:20260424T025600
CREATED:20260115T204504Z
LAST-MODIFIED:20260115T210250Z
UID:10000344-1776938400-1800529200@www.senatorcollett.com
SUMMARY:Veteran Service Office Hours
DESCRIPTION:Every fourth Thursday\, a Veterans Service Officer from the American Legion Department of PA will be available at Senator Collett’s office to help with benefits and answer your questions in a private\, one-on-one setting. Appointments are required! \nContact Sen. Collett’s office at 215-368-1429 or senatorcollett@pasenate.com to make your hour-long appointment.
URL:https://www.senatorcollett.com/event/veteran-service-office/2026-04-23/
LOCATION:Fort Washington District Office\, 1035 Virginia Drive\, Suite 201\, Fort Washington\, PA\, 19034\, United States
ATTACH;FMTTYPE=image/jpeg:https://www.senatorcollett.com/wp-content/uploads/2024/12/2026_Collett_VeteransService_Social.jpg
END:VEVENT
BEGIN:VEVENT
DTSTART;TZID=America/New_York:20260519T100000
DTEND;TZID=America/New_York:20260519T120000
DTSTAMP:20260424T025600
CREATED:20260115T210527Z
LAST-MODIFIED:20260115T210637Z
UID:10000354-1779184800-1779192000@www.senatorcollett.com
SUMMARY:Greater Plymouth Community Center Mobile Office Hours
DESCRIPTION:Senator Collett’s staff will be at the Greater Plymouth Community Center from 10am-12pm on the 3rd Tuesday of each month to answer your questions and provide a range of state services – no appointment required! \nOffice staff will be available to help you with: \nIssues with PennDOT\, including REALID\nDisability plates & placards\nPACE cards for seniors\nProperty Tax/Rent Rebates\nSEPTA Senior Key Card registrations & renewals\nUnemployment compensation\nBirth & death certificate applications\nPA income tax issues\nConsumer complaints\nIssues with Department of Human\nServices (SNAP\, Medical Assistance\, etc.)\nAny matter involving state government!
URL:https://www.senatorcollett.com/event/greater-plymouth-mobile/2026-05-19/
LOCATION:Greater Plymouth Community Center\, 2910 Jolly Road\, Plymouth Meeting\, 19462\, United States
ATTACH;FMTTYPE=image/jpeg:https://www.senatorcollett.com/wp-content/uploads/2023/10/Greater-Plymouth-Community-Center-2025.jpg
END:VEVENT
BEGIN:VEVENT
DTSTART;TZID=America/New_York:20260519T133000
DTEND;TZID=America/New_York:20260519T153000
DTSTAMP:20260424T025600
CREATED:20250227T145545Z
LAST-MODIFIED:20260115T210726Z
UID:10000369-1779197400-1779204600@www.senatorcollett.com
SUMMARY:Wissahickon Valley Public Library Mobile Office Hours
DESCRIPTION:Senator Collett’s staff will be at the Wissahickon Valley Public Library from 1:30pm-3:30pm on the 3rd Tuesday of each month to answer your questions and provide a range of state services – no appointment required! \nOffice staff will be available to help you with: \n\nIssues with PennDOT\, including REALID\nDisability plates & placards\nPACE cards for seniors\nProperty Tax/Rent Rebates\nSEPTA Senior Key Card registrations & renewals\nUnemployment compensation\nBirth & death certificate applications\nPA income tax issues\nConsumer complaints\nIssues with Department of Human\nServices (SNAP\, Medical Assistance\, etc.)\nAny matter involving state government!
URL:https://www.senatorcollett.com/event/wissahickon-valley-public-library-mobile-office-hours/2026-05-19/
LOCATION:Wissahickon Valley Public Library\, 650 Skippack Pike\, Blue Bell\, 19422\, United States
ATTACH;FMTTYPE=image/jpeg:https://www.senatorcollett.com/wp-content/uploads/2025/02/Wissahickon-Valley-Public-Library-2025.jpg
END:VEVENT
BEGIN:VEVENT
DTSTART;TZID=America/New_York:20260520T100000
DTEND;TZID=America/New_York:20260520T120000
DTSTAMP:20260424T025600
CREATED:20260112T203033Z
LAST-MODIFIED:20260115T203934Z
UID:10000333-1779271200-1779278400@www.senatorcollett.com
SUMMARY:Hatfield Mobile Office Hours
DESCRIPTION:Senator Collett’s staff will be at the Hatfield Township Building from 10:00AM – Noon on the 3rd Wednesday of every other month to answer your questions and provide a range of state services – no appointment required! \nOffice staff will be available to help you with: \n\nIssues with PennDOT\, including REALID\nDisability plates & placards\nPACE cards for seniors\nProperty Tax/Rent Rebates\nSEPTA Senior Key Card registrations & renewals\nUnemployment compensation\nBirth & death certificate applications\nPA income tax issues\nConsumer complaints\nIssues with Department of Human\nServices (SNAP\, Medical Assistance\, etc.)\nAny matter involving state government!
URL:https://www.senatorcollett.com/event/hatfield-mobile-office/2026-05-20/
LOCATION:Hatfield Township Building\, 1950 School Road\, Hatfield\, 19440\, United States
ATTACH;FMTTYPE=image/jpeg:https://www.senatorcollett.com/wp-content/uploads/2025/02/Hatfield-Township-2026.jpg
END:VEVENT
BEGIN:VEVENT
DTSTART;TZID=America/New_York:20260522T090000
DTEND;TZID=America/New_York:20260522T120000
DTSTAMP:20260424T025600
CREATED:20260415T180156Z
LAST-MODIFIED:20260415T180156Z
UID:10000405-1779440400-1779451200@www.senatorcollett.com
SUMMARY:Fill a Cop Car Food Drive
DESCRIPTION:Senator Maria Collett is partnering with the Hatfield Police Department for a Fill a Cop Car food drive benefitting Keystone Opportunity Center on Friday\, May 22 from 9am-12pm. \nJoin us at the Hatfield Giant (1540 Cowpath Road) to get a shopping list and pick up a few items for our neighbors in need! 
URL:https://www.senatorcollett.com/event/fooddrive/
LOCATION:Hatfield Giant\, 1540 Cowpath Road\, Hatfield\, 19440\, United States
ATTACH;FMTTYPE=image/jpeg:https://www.senatorcollett.com/wp-content/uploads/2026/04/Fill-A-Cop-Car-May2026.jpg
END:VEVENT
END:VCALENDAR