BEGIN:VCALENDAR
VERSION:2.0
PRODID:-//Senator Maria Collett - ECPv6.15.20//NONSGML v1.0//EN
CALSCALE:GREGORIAN
METHOD:PUBLISH
X-ORIGINAL-URL:https://www.senatorcollett.com
X-WR-CALDESC:Events for Senator Maria Collett
REFRESH-INTERVAL;VALUE=DURATION:PT1H
X-Robots-Tag:noindex
X-PUBLISHED-TTL:PT1H
BEGIN:VTIMEZONE
TZID:America/New_York
BEGIN:DAYLIGHT
TZOFFSETFROM:-0500
TZOFFSETTO:-0400
TZNAME:EDT
DTSTART:20240310T070000
END:DAYLIGHT
BEGIN:STANDARD
TZOFFSETFROM:-0400
TZOFFSETTO:-0500
TZNAME:EST
DTSTART:20241103T060000
END:STANDARD
BEGIN:DAYLIGHT
TZOFFSETFROM:-0500
TZOFFSETTO:-0400
TZNAME:EDT
DTSTART:20250309T070000
END:DAYLIGHT
BEGIN:STANDARD
TZOFFSETFROM:-0400
TZOFFSETTO:-0500
TZNAME:EST
DTSTART:20251102T060000
END:STANDARD
BEGIN:DAYLIGHT
TZOFFSETFROM:-0500
TZOFFSETTO:-0400
TZNAME:EDT
DTSTART:20260308T070000
END:DAYLIGHT
BEGIN:STANDARD
TZOFFSETFROM:-0400
TZOFFSETTO:-0500
TZNAME:EST
DTSTART:20261101T060000
END:STANDARD
END:VTIMEZONE
BEGIN:VEVENT
DTSTART;TZID=America/New_York:20250916T100000
DTEND;TZID=America/New_York:20250916T120000
DTSTAMP:20260424T164758
CREATED:20250122T164215Z
LAST-MODIFIED:20250321T222845Z
UID:10000206-1758016800-1758024000@www.senatorcollett.com
SUMMARY:Greater Plymouth Community Center Mobile Office Hours
DESCRIPTION:Senator Collett’s staff will be at the Greater Plymouth Community Center from 10am-12pm on the 3rd Tuesday of each month to answer your questions and provide a range of state services – no appointment required! \nOffice staff will be available to help you with: \nIssues with PennDOT\, including REALID\nDisability plates & placards\nPACE cards for seniors\nProperty Tax/Rent Rebates\nSEPTA Senior Key Card registrations & renewals\nUnemployment compensation\nBirth & death certificate applications\nPA income tax issues\nConsumer complaints\nIssues with Department of Human\nServices (SNAP\, Medical Assistance\, etc.)\nAny matter involving state government!
URL:https://www.senatorcollett.com/event/greater-plymouth-mobile-office/2025-09-16/
LOCATION:Greater Plymouth Community Center\, 2910 Jolly Road\, Plymouth Meeting\, 19462\, United States
ATTACH;FMTTYPE=image/jpeg:https://www.senatorcollett.com/wp-content/uploads/2023/10/Greater-Plymouth-Community-Center-2025.jpg
END:VEVENT
BEGIN:VEVENT
DTSTART;TZID=America/New_York:20250916T133000
DTEND;TZID=America/New_York:20250916T153000
DTSTAMP:20260424T164758
CREATED:20250227T145545Z
LAST-MODIFIED:20260115T210726Z
UID:10000254-1758029400-1758036600@www.senatorcollett.com
SUMMARY:Wissahickon Valley Public Library Mobile Office Hours
DESCRIPTION:Senator Collett’s staff will be at the Wissahickon Valley Public Library from 1:30pm-3:30pm on the 3rd Tuesday of each month to answer your questions and provide a range of state services – no appointment required! \nOffice staff will be available to help you with: \n\nIssues with PennDOT\, including REALID\nDisability plates & placards\nPACE cards for seniors\nProperty Tax/Rent Rebates\nSEPTA Senior Key Card registrations & renewals\nUnemployment compensation\nBirth & death certificate applications\nPA income tax issues\nConsumer complaints\nIssues with Department of Human\nServices (SNAP\, Medical Assistance\, etc.)\nAny matter involving state government!
URL:https://www.senatorcollett.com/event/wissahickon-valley-public-library-mobile-office-hours/2025-09-16/
LOCATION:Wissahickon Valley Public Library\, 650 Skippack Pike\, Blue Bell\, 19422\, United States
ATTACH;FMTTYPE=image/jpeg:https://www.senatorcollett.com/wp-content/uploads/2025/02/Wissahickon-Valley-Public-Library-2025.jpg
END:VEVENT
BEGIN:VEVENT
DTSTART;TZID=America/New_York:20250917T143000
DTEND;TZID=America/New_York:20250917T163000
DTSTAMP:20260424T164758
CREATED:20250213T035217Z
LAST-MODIFIED:20250321T224901Z
UID:10000241-1758119400-1758126600@www.senatorcollett.com
SUMMARY:Hatfield Mobile Office Hours
DESCRIPTION:Senator Collett’s staff will be at the Hatfield Township Building from 2:30PM – 4:30PM on the 3rd Wednesday of every other month to answer your questions and provide a range of state services – no appointment required! \nOffice staff will be available to help you with: \n\nIssues with PennDOT\, including REALID\nDisability plates & placards\nPACE cards for seniors\nProperty Tax/Rent Rebates\nSEPTA Senior Key Card registrations & renewals\nUnemployment compensation\nBirth & death certificate applications\nPA income tax issues\nConsumer complaints\nIssues with Department of Human\nServices (SNAP\, Medical Assistance\, etc.)\nAny matter involving state government!
URL:https://www.senatorcollett.com/event/hatfield-mobile-office-hours/2025-09-17/
LOCATION:Hatfield Township Building\, 1950 School Road\, Hatfield\, 19440\, United States
ATTACH;FMTTYPE=image/jpeg:https://www.senatorcollett.com/wp-content/uploads/2024/08/Hatfield-Township-revised-2025.jpg
END:VEVENT
BEGIN:VEVENT
DTSTART;TZID=America/New_York:20250917T180000
DTEND;TZID=America/New_York:20250917T193000
DTSTAMP:20260424T164758
CREATED:20250813T173354Z
LAST-MODIFIED:20250819T184936Z
UID:10000285-1758132000-1758137400@www.senatorcollett.com
SUMMARY:Paid Leave for Every Pennsylvanian: A Roundtable Discussion
DESCRIPTION:Without paid family and medical leave\, nearly 70% of working Pennsylvanians are left to make the impossible choice between putting food on the table and keeping a roof over their heads or caring for a new or sick family member.   \nDuring this roundtable discussion\, State Senator Maria Collett\, prime sponsor of the bipartisan PA Family Care Act\, will be joined by an expert panel to explore what a statewide paid leave program would look like for workers\, businesses and families.   \nThe event is free and open to the public\, but registration is required\, as space is limited. Light refreshments will be provided.   \nRegister Here\n\n\n\n\nPaid Leave Seminar - September 2025\n\n\n\n\n\n\n\n\n	First Name\n		*\n	\n	\n	\n	\n\n\n	Last Name\n		*\n	\n	\n	\n	\n\n\n	Address\n		*\n	\n	\n\n	Address\n\n\n	\n		Address	\n		\n	\n\n	\n		Address	\n		\n	\n\n	\n		City	\n		\n	City\n\n	\n		State/Province	\n		\n	State/Province\n\n	\n		Zip/Postal	\n		\n	Zip/Postal\n\n\n\n	\n	\n\n\n	Email\n		*\n	\n	\n	\n	\n\n\n	Phone Number\n		\n	\n	\n	\n	\n\n\n	Do you have a question for the panel? Submit it here!  \n		\n	\n	\n	\n	\n\n\n	\nSubmit\n\n\n\n\n\n	\n			\n			\n				If you are human\, leave this field blank.
URL:https://www.senatorcollett.com/event/paidleave/
LOCATION:Upper Dublin Library Auditorium\, 520 Virginia Dr\, Fort Washington\, PA 19034\, 520 Virginia Dr\, Fort Washington\, 19034\, United States
CATEGORIES:Community
ATTACH;FMTTYPE=image/jpeg:https://www.senatorcollett.com/wp-content/uploads/2025/08/Paid-Leave-Roundtable-Sept-2025.jpg
END:VEVENT
END:VCALENDAR