BEGIN:VCALENDAR
VERSION:2.0
PRODID:-//Senator Maria Collett - ECPv6.15.20//NONSGML v1.0//EN
CALSCALE:GREGORIAN
METHOD:PUBLISH
X-ORIGINAL-URL:https://www.senatorcollett.com
X-WR-CALDESC:Events for Senator Maria Collett
REFRESH-INTERVAL;VALUE=DURATION:PT1H
X-Robots-Tag:noindex
X-PUBLISHED-TTL:PT1H
BEGIN:VTIMEZONE
TZID:America/New_York
BEGIN:DAYLIGHT
TZOFFSETFROM:-0500
TZOFFSETTO:-0400
TZNAME:EDT
DTSTART:20240310T070000
END:DAYLIGHT
BEGIN:STANDARD
TZOFFSETFROM:-0400
TZOFFSETTO:-0500
TZNAME:EST
DTSTART:20241103T060000
END:STANDARD
BEGIN:DAYLIGHT
TZOFFSETFROM:-0500
TZOFFSETTO:-0400
TZNAME:EDT
DTSTART:20250309T070000
END:DAYLIGHT
BEGIN:STANDARD
TZOFFSETFROM:-0400
TZOFFSETTO:-0500
TZNAME:EST
DTSTART:20251102T060000
END:STANDARD
BEGIN:DAYLIGHT
TZOFFSETFROM:-0500
TZOFFSETTO:-0400
TZNAME:EDT
DTSTART:20260308T070000
END:DAYLIGHT
BEGIN:STANDARD
TZOFFSETFROM:-0400
TZOFFSETTO:-0500
TZNAME:EST
DTSTART:20261101T060000
END:STANDARD
END:VTIMEZONE
BEGIN:VEVENT
DTSTART;TZID=America/New_York:20250414T103000
DTEND;TZID=America/New_York:20250414T123000
DTSTAMP:20260425T090337
CREATED:20250122T163334Z
LAST-MODIFIED:20250318T145550Z
UID:10000177-1744626600-1744633800@www.senatorcollett.com
SUMMARY:Willow Grove Mobile Office
DESCRIPTION:Join Senator Collett’s staff on the 2nd Monday of every month from 10:30AM-12:30PM for mobile office hours at the Upper Moreland Library. The team will be able to help with any state government-related issues or questions – no appointment required! \nOffice staff will be available to help you with: \n\nIssues with PennDOT\, including REALID\nDisability plates & placards\nPACE cards for seniors\nProperty Tax/Rent Rebates\nSEPTA Senior Key Card registrations & renewals\nUnemployment compensation\nBirth & death certificate applications\nPA income tax issues\nConsumer complaints\nIssues with Department of Human\nServices (SNAP\, Medical Assistance\, etc.)\nAny matter involving state government!
URL:https://www.senatorcollett.com/event/willow-grove-mobile/2025-04-14/
LOCATION:Upper Moreland Library\, 109 Park Avenue\, Willow Grove\, 19090\, United States
ATTACH;FMTTYPE=image/jpeg:https://www.senatorcollett.com/wp-content/uploads/2023/10/Willow-Grove-2025.jpg
END:VEVENT
BEGIN:VEVENT
DTSTART;TZID=America/New_York:20250415T100000
DTEND;TZID=America/New_York:20250415T120000
DTSTAMP:20260425T090337
CREATED:20250122T164215Z
LAST-MODIFIED:20250321T222845Z
UID:10000201-1744711200-1744718400@www.senatorcollett.com
SUMMARY:Greater Plymouth Community Center Mobile Office Hours
DESCRIPTION:Senator Collett’s staff will be at the Greater Plymouth Community Center from 10am-12pm on the 3rd Tuesday of each month to answer your questions and provide a range of state services – no appointment required! \nOffice staff will be available to help you with: \nIssues with PennDOT\, including REALID\nDisability plates & placards\nPACE cards for seniors\nProperty Tax/Rent Rebates\nSEPTA Senior Key Card registrations & renewals\nUnemployment compensation\nBirth & death certificate applications\nPA income tax issues\nConsumer complaints\nIssues with Department of Human\nServices (SNAP\, Medical Assistance\, etc.)\nAny matter involving state government!
URL:https://www.senatorcollett.com/event/greater-plymouth-mobile-office/2025-04-15/
LOCATION:Greater Plymouth Community Center\, 2910 Jolly Road\, Plymouth Meeting\, 19462\, United States
ATTACH;FMTTYPE=image/jpeg:https://www.senatorcollett.com/wp-content/uploads/2023/10/Greater-Plymouth-Community-Center-2025.jpg
END:VEVENT
BEGIN:VEVENT
DTSTART;TZID=America/New_York:20250415T133000
DTEND;TZID=America/New_York:20250415T153000
DTSTAMP:20260425T090337
CREATED:20250227T145545Z
LAST-MODIFIED:20260115T210726Z
UID:10000249-1744723800-1744731000@www.senatorcollett.com
SUMMARY:Wissahickon Valley Public Library Mobile Office Hours
DESCRIPTION:Senator Collett’s staff will be at the Wissahickon Valley Public Library from 1:30pm-3:30pm on the 3rd Tuesday of each month to answer your questions and provide a range of state services – no appointment required! \nOffice staff will be available to help you with: \n\nIssues with PennDOT\, including REALID\nDisability plates & placards\nPACE cards for seniors\nProperty Tax/Rent Rebates\nSEPTA Senior Key Card registrations & renewals\nUnemployment compensation\nBirth & death certificate applications\nPA income tax issues\nConsumer complaints\nIssues with Department of Human\nServices (SNAP\, Medical Assistance\, etc.)\nAny matter involving state government!
URL:https://www.senatorcollett.com/event/wissahickon-valley-public-library-mobile-office-hours/2025-04-15/
LOCATION:Wissahickon Valley Public Library\, 650 Skippack Pike\, Blue Bell\, 19422\, United States
ATTACH;FMTTYPE=image/jpeg:https://www.senatorcollett.com/wp-content/uploads/2025/02/Wissahickon-Valley-Public-Library-2025.jpg
END:VEVENT
BEGIN:VEVENT
DTSTART;TZID=America/New_York:20250416T110000
DTEND;TZID=America/New_York:20250416T123000
DTSTAMP:20260425T090337
CREATED:20250304T175146Z
LAST-MODIFIED:20250318T162920Z
UID:10000268-1744801200-1744806600@www.senatorcollett.com
SUMMARY:Real ID Webinar
DESCRIPTION:I am proud to be partnering with PennDOT to host a REAL ID webinar on April 16 at 11 AM! During this webinar\, we’ll be explaining what a REAL ID is\, why you may want one\, and how you can get one before the May 7 REAL ID Enforcement date. This virtual presentation is completely free to attend\, so mark your calendars and tell your friends. \nTo submit a question\, visit www.senatorcollett.com/realid. \nTo watch live\, visit www.senatorcollett.com/realid or stream at Facebook.com/SenatorCollett. \nSubmit a question\nThis form is currently closed for submissions.
URL:https://www.senatorcollett.com/event/real-id-webinar/
LOCATION:Virtual\, PA\, United States
ATTACH;FMTTYPE=image/jpeg:https://www.senatorcollett.com/wp-content/uploads/2025/03/2025_Collett_RealID-1.jpg
END:VEVENT
BEGIN:VEVENT
DTSTART;TZID=America/New_York:20250416T143000
DTEND;TZID=America/New_York:20250416T163000
DTSTAMP:20260425T090337
CREATED:20250213T035217Z
LAST-MODIFIED:20250321T224901Z
UID:10000236-1744813800-1744821000@www.senatorcollett.com
SUMMARY:Hatfield Mobile Office Hours
DESCRIPTION:Senator Collett’s staff will be at the Hatfield Township Building from 2:30PM – 4:30PM on the 3rd Wednesday of every other month to answer your questions and provide a range of state services – no appointment required! \nOffice staff will be available to help you with: \n\nIssues with PennDOT\, including REALID\nDisability plates & placards\nPACE cards for seniors\nProperty Tax/Rent Rebates\nSEPTA Senior Key Card registrations & renewals\nUnemployment compensation\nBirth & death certificate applications\nPA income tax issues\nConsumer complaints\nIssues with Department of Human\nServices (SNAP\, Medical Assistance\, etc.)\nAny matter involving state government!
URL:https://www.senatorcollett.com/event/hatfield-mobile-office-hours/2025-04-16/
LOCATION:Hatfield Township Building\, 1950 School Road\, Hatfield\, 19440\, United States
ATTACH;FMTTYPE=image/jpeg:https://www.senatorcollett.com/wp-content/uploads/2024/08/Hatfield-Township-revised-2025.jpg
END:VEVENT
END:VCALENDAR