BEGIN:VCALENDAR
VERSION:2.0
PRODID:-//Senator Maria Collett - ECPv6.15.20//NONSGML v1.0//EN
CALSCALE:GREGORIAN
METHOD:PUBLISH
X-ORIGINAL-URL:https://www.senatorcollett.com
X-WR-CALDESC:Events for Senator Maria Collett
REFRESH-INTERVAL;VALUE=DURATION:PT1H
X-Robots-Tag:noindex
X-PUBLISHED-TTL:PT1H
BEGIN:VTIMEZONE
TZID:America/New_York
BEGIN:DAYLIGHT
TZOFFSETFROM:-0500
TZOFFSETTO:-0400
TZNAME:EDT
DTSTART:20240310T070000
END:DAYLIGHT
BEGIN:STANDARD
TZOFFSETFROM:-0400
TZOFFSETTO:-0500
TZNAME:EST
DTSTART:20241103T060000
END:STANDARD
BEGIN:DAYLIGHT
TZOFFSETFROM:-0500
TZOFFSETTO:-0400
TZNAME:EDT
DTSTART:20250309T070000
END:DAYLIGHT
BEGIN:STANDARD
TZOFFSETFROM:-0400
TZOFFSETTO:-0500
TZNAME:EST
DTSTART:20251102T060000
END:STANDARD
BEGIN:DAYLIGHT
TZOFFSETFROM:-0500
TZOFFSETTO:-0400
TZNAME:EDT
DTSTART:20260308T070000
END:DAYLIGHT
BEGIN:STANDARD
TZOFFSETFROM:-0400
TZOFFSETTO:-0500
TZNAME:EST
DTSTART:20261101T060000
END:STANDARD
END:VTIMEZONE
BEGIN:VEVENT
DTSTART;TZID=America/New_York:20250409T100000
DTEND;TZID=America/New_York:20250409T120000
DTSTAMP:20260425T090336
CREATED:20250227T145849Z
LAST-MODIFIED:20260115T211048Z
UID:10000259-1744192800-1744200000@www.senatorcollett.com
SUMMARY:Horsham Library Mobile Office Hours
DESCRIPTION:Senator Collett’s staff will be at the Horsham Library from 10am-12pm on the 2nd Wednesday of each month to answer your questions and provide a range of state services – no appointment required! \nOffice staff will be available to help you with: \n\nIssues with PennDOT\, including REALID\nDisability plates & placards\nPACE cards for seniors\nProperty Tax/Rent Rebates\nSEPTA Senior Key Card registrations & renewals\nUnemployment compensation\nBirth & death certificate applications\nPA income tax issues\nConsumer complaints\nIssues with Department of Human\nServices (SNAP\, Medical Assistance\, etc.)\nAny matter involving state government!
URL:https://www.senatorcollett.com/event/horsham-library-mobile-office-hours/2025-04-09/
LOCATION:Horsham Library\, 435 Babylon Road\, Horsham\, 19044\, United States
ATTACH;FMTTYPE=image/jpeg:https://www.senatorcollett.com/wp-content/uploads/2025/02/Horsham-Library-2025.jpg
END:VEVENT
BEGIN:VEVENT
DTSTART;TZID=America/New_York:20250411T130000
DTEND;TZID=America/New_York:20250411T140000
DTSTAMP:20260425T090336
CREATED:20250227T145046Z
LAST-MODIFIED:20250227T145046Z
UID:10000246-1744376400-1744380000@www.senatorcollett.com
SUMMARY:Health Literacy 101
DESCRIPTION:Take control of your health and your finances! Join Senator Collett\, Representative Malagari\, and the PA Chapter of the American Physical Therapy Association for a free seminar to improve your health literacy and take control of your finances. We’ll discuss understanding your medical bills\, how to read a prescription bottle\, when to go to the ER versus urgent care\, the different types of Medicare\, and how to prepare for your doctor’s appointment. To register\, call Generations of Indian Valley at 215-723-5841.
URL:https://www.senatorcollett.com/event/health-literacy-101/
LOCATION:Generations of Indian Valley\, 259 N. 2nd Street\, Souderton\, 18964\, United States
ATTACH;FMTTYPE=image/jpeg:https://www.senatorcollett.com/wp-content/uploads/2025/02/Health-Literacy-101-April-2025.jpg
END:VEVENT
END:VCALENDAR