BEGIN:VCALENDAR
VERSION:2.0
PRODID:-//Senator Maria Collett - ECPv6.15.20//NONSGML v1.0//EN
CALSCALE:GREGORIAN
METHOD:PUBLISH
X-ORIGINAL-URL:https://www.senatorcollett.com
X-WR-CALDESC:Events for Senator Maria Collett
REFRESH-INTERVAL;VALUE=DURATION:PT1H
X-Robots-Tag:noindex
X-PUBLISHED-TTL:PT1H
BEGIN:VTIMEZONE
TZID:America/New_York
BEGIN:DAYLIGHT
TZOFFSETFROM:-0500
TZOFFSETTO:-0400
TZNAME:EDT
DTSTART:20240310T070000
END:DAYLIGHT
BEGIN:STANDARD
TZOFFSETFROM:-0400
TZOFFSETTO:-0500
TZNAME:EST
DTSTART:20241103T060000
END:STANDARD
BEGIN:DAYLIGHT
TZOFFSETFROM:-0500
TZOFFSETTO:-0400
TZNAME:EDT
DTSTART:20250309T070000
END:DAYLIGHT
BEGIN:STANDARD
TZOFFSETFROM:-0400
TZOFFSETTO:-0500
TZNAME:EST
DTSTART:20251102T060000
END:STANDARD
BEGIN:DAYLIGHT
TZOFFSETFROM:-0500
TZOFFSETTO:-0400
TZNAME:EDT
DTSTART:20260308T070000
END:DAYLIGHT
BEGIN:STANDARD
TZOFFSETFROM:-0400
TZOFFSETTO:-0500
TZNAME:EST
DTSTART:20261101T060000
END:STANDARD
END:VTIMEZONE
BEGIN:VEVENT
DTSTART;TZID=America/New_York:20250403T130000
DTEND;TZID=America/New_York:20250403T180000
DTSTAMP:20260425T090435
CREATED:20250121T191217Z
LAST-MODIFIED:20250227T144513Z
UID:10000124-1743685200-1743703200@www.senatorcollett.com
SUMMARY:Community Blood Drive
DESCRIPTION:To help ensure our neighbors can receive the life-saving blood donations they need\, Senator Collett’s office is partnering with the American Red Cross to host her annual blood drive on Thursday\, April 3 from 1PM-6PM at Montgomery County Community College.  Appointments are required. To sign up\, visit redcrossblood.org/give and enter code “Give Blood\,” or call 1-800-RED-CROSS. If you have additional questions about the event\, call Senator Collett’s office at 215-368-1429. \nBook your appointment →
URL:https://www.senatorcollett.com/event/blood-drive/
LOCATION:Montgomery County Community College\, 1350 Morris Road\, Blue Bell\, PA\, 19422\, United States
ATTACH;FMTTYPE=image/jpeg:https://www.senatorcollett.com/wp-content/uploads/2024/03/Community-Blood-Drive-Apr-2025.jpg
END:VEVENT
BEGIN:VEVENT
DTSTART;TZID=America/New_York:20250404T100000
DTEND;TZID=America/New_York:20250404T120000
DTSTAMP:20260425T090435
CREATED:20250219T160021Z
LAST-MODIFIED:20250227T144327Z
UID:10000245-1743760800-1743768000@www.senatorcollett.com
SUMMARY:$cam Jam
DESCRIPTION:Join us for a free fraud prevention event and learn how to protect yourself & your family against common scam attempts. Presentations from government agencies will be followed by interactive Fraud Bingo! Please be sure to register in advance by using the form below. \nQuestions about the event? Contact my office at 215-368-1429 or senatorcollett@pasenate.com. \nRegister\nThis form is currently closed for submissions.
URL:https://www.senatorcollett.com/event/scamjam/
LOCATION:Ambler SAAC\, 45 Forest Avenue\, Ambler\, 19002\, United States
ATTACH;FMTTYPE=image/jpeg:https://www.senatorcollett.com/wp-content/uploads/2025/02/Scam-Jam-Apr-2025.jpg
END:VEVENT
END:VCALENDAR