BEGIN:VCALENDAR
VERSION:2.0
PRODID:-//Senator Maria Collett - ECPv6.15.20//NONSGML v1.0//EN
CALSCALE:GREGORIAN
METHOD:PUBLISH
X-WR-CALNAME:Senator Maria Collett
X-ORIGINAL-URL:https://www.senatorcollett.com
X-WR-CALDESC:Events for Senator Maria Collett
REFRESH-INTERVAL;VALUE=DURATION:PT1H
X-Robots-Tag:noindex
X-PUBLISHED-TTL:PT1H
BEGIN:VTIMEZONE
TZID:America/New_York
BEGIN:DAYLIGHT
TZOFFSETFROM:-0500
TZOFFSETTO:-0400
TZNAME:EDT
DTSTART:20240310T070000
END:DAYLIGHT
BEGIN:STANDARD
TZOFFSETFROM:-0400
TZOFFSETTO:-0500
TZNAME:EST
DTSTART:20241103T060000
END:STANDARD
BEGIN:DAYLIGHT
TZOFFSETFROM:-0500
TZOFFSETTO:-0400
TZNAME:EDT
DTSTART:20250309T070000
END:DAYLIGHT
BEGIN:STANDARD
TZOFFSETFROM:-0400
TZOFFSETTO:-0500
TZNAME:EST
DTSTART:20251102T060000
END:STANDARD
BEGIN:DAYLIGHT
TZOFFSETFROM:-0500
TZOFFSETTO:-0400
TZNAME:EDT
DTSTART:20260308T070000
END:DAYLIGHT
BEGIN:STANDARD
TZOFFSETFROM:-0400
TZOFFSETTO:-0500
TZNAME:EST
DTSTART:20261101T060000
END:STANDARD
END:VTIMEZONE
BEGIN:VEVENT
DTSTART;TZID=America/New_York:20250318T100000
DTEND;TZID=America/New_York:20250318T120000
DTSTAMP:20260425T102635
CREATED:20250122T164215Z
LAST-MODIFIED:20250321T222845Z
UID:10000200-1742292000-1742299200@www.senatorcollett.com
SUMMARY:Greater Plymouth Community Center Mobile Office Hours
DESCRIPTION:Senator Collett’s staff will be at the Greater Plymouth Community Center from 10am-12pm on the 3rd Tuesday of each month to answer your questions and provide a range of state services – no appointment required! \nOffice staff will be available to help you with: \nIssues with PennDOT\, including REALID\nDisability plates & placards\nPACE cards for seniors\nProperty Tax/Rent Rebates\nSEPTA Senior Key Card registrations & renewals\nUnemployment compensation\nBirth & death certificate applications\nPA income tax issues\nConsumer complaints\nIssues with Department of Human\nServices (SNAP\, Medical Assistance\, etc.)\nAny matter involving state government!
URL:https://www.senatorcollett.com/event/greater-plymouth-mobile-office/2025-03-18/
LOCATION:Greater Plymouth Community Center\, 2910 Jolly Road\, Plymouth Meeting\, 19462\, United States
ATTACH;FMTTYPE=image/jpeg:https://www.senatorcollett.com/wp-content/uploads/2023/10/Greater-Plymouth-Community-Center-2025.jpg
END:VEVENT
BEGIN:VEVENT
DTSTART;TZID=America/New_York:20250318T133000
DTEND;TZID=America/New_York:20250318T153000
DTSTAMP:20260425T102635
CREATED:20250227T145545Z
LAST-MODIFIED:20260115T210726Z
UID:10000248-1742304600-1742311800@www.senatorcollett.com
SUMMARY:Wissahickon Valley Public Library Mobile Office Hours
DESCRIPTION:Senator Collett’s staff will be at the Wissahickon Valley Public Library from 1:30pm-3:30pm on the 3rd Tuesday of each month to answer your questions and provide a range of state services – no appointment required! \nOffice staff will be available to help you with: \n\nIssues with PennDOT\, including REALID\nDisability plates & placards\nPACE cards for seniors\nProperty Tax/Rent Rebates\nSEPTA Senior Key Card registrations & renewals\nUnemployment compensation\nBirth & death certificate applications\nPA income tax issues\nConsumer complaints\nIssues with Department of Human\nServices (SNAP\, Medical Assistance\, etc.)\nAny matter involving state government!
URL:https://www.senatorcollett.com/event/wissahickon-valley-public-library-mobile-office-hours/2025-03-18/
LOCATION:Wissahickon Valley Public Library\, 650 Skippack Pike\, Blue Bell\, 19422\, United States
ATTACH;FMTTYPE=image/jpeg:https://www.senatorcollett.com/wp-content/uploads/2025/02/Wissahickon-Valley-Public-Library-2025.jpg
END:VEVENT
BEGIN:VEVENT
DTSTART;TZID=America/New_York:20250319T180000
DTEND;TZID=America/New_York:20250319T190000
DTSTAMP:20260425T102635
CREATED:20250318T144631Z
LAST-MODIFIED:20250318T155204Z
UID:10000269-1742407200-1742410800@www.senatorcollett.com
SUMMARY:Telephone Town Hall - Federal Attacks on Healthcare Access
DESCRIPTION:Senator Collett will host a Telephone Town Hall on Wednesday\, March 19\, 2025 at 6pm. The topic will be Federal Attacks on Healthcare Access. To sign up or submit questions visit SenatorCollett.com/TTH.
URL:https://www.senatorcollett.com/event/tth-healthcare/
LOCATION:Call In
ATTACH;FMTTYPE=image/jpeg:https://www.senatorcollett.com/wp-content/uploads/2025/03/TTH-March-19-2025.jpg
END:VEVENT
END:VCALENDAR